BEGIN:VCALENDAR
VERSION:2.0
PRODID:-//HARLEM MIDDLE SCHOOL PTO - ECPv6.15.20//NONSGML v1.0//EN
CALSCALE:GREGORIAN
METHOD:PUBLISH
X-ORIGINAL-URL:https://harlemmspto.ptoffice.co
X-WR-CALDESC:Events for HARLEM MIDDLE SCHOOL PTO
REFRESH-INTERVAL;VALUE=DURATION:PT1H
X-Robots-Tag:noindex
X-PUBLISHED-TTL:PT1H
BEGIN:VTIMEZONE
TZID:America/Chicago
BEGIN:DAYLIGHT
TZOFFSETFROM:-0600
TZOFFSETTO:-0500
TZNAME:CDT
DTSTART:20230312T080000
END:DAYLIGHT
BEGIN:STANDARD
TZOFFSETFROM:-0500
TZOFFSETTO:-0600
TZNAME:CST
DTSTART:20231105T070000
END:STANDARD
BEGIN:DAYLIGHT
TZOFFSETFROM:-0600
TZOFFSETTO:-0500
TZNAME:CDT
DTSTART:20240310T080000
END:DAYLIGHT
BEGIN:STANDARD
TZOFFSETFROM:-0500
TZOFFSETTO:-0600
TZNAME:CST
DTSTART:20241103T070000
END:STANDARD
BEGIN:DAYLIGHT
TZOFFSETFROM:-0600
TZOFFSETTO:-0500
TZNAME:CDT
DTSTART:20250309T080000
END:DAYLIGHT
BEGIN:STANDARD
TZOFFSETFROM:-0500
TZOFFSETTO:-0600
TZNAME:CST
DTSTART:20251102T070000
END:STANDARD
END:VTIMEZONE
BEGIN:VEVENT
DTSTART;TZID=America/Chicago:20241107T170000
DTEND;TZID=America/Chicago:20241107T200000
DTSTAMP:20260420T113834
CREATED:20240826T012507Z
LAST-MODIFIED:20240917T150145Z
UID:10000027-1730998800-1731009600@harlemmspto.ptoffice.co
SUMMARY:Which Wich Family & Friends Fundraiser
DESCRIPTION:Lets all grab a sammy or a salad at Loves Park newest Sandwhich spots; Which Wich on Thursday 11/7/24. Check them out here at: https://www.whichwich.com/\n20% of your purchase\, when you mention HMS PTO will be donated back to the PTO.\n5542 E Riverside Blvd\, Loves Park\, IL 61111
URL:https://harlemmspto.ptoffice.co/event/which-wich-family-friends-fundraiser/
LOCATION:IL
CATEGORIES:Family and Friends Fundraiser
ATTACH;FMTTYPE=image/jpeg:https://harlemmspto.ptoffice.co/wp-content/uploads/sites/26/2024/08/457868879_358202367371074_7608692068463571704_n-1-e1725853843823.jpg
END:VEVENT
BEGIN:VEVENT
DTSTART;TZID=America/Chicago:20241113T160000
DTEND;TZID=America/Chicago:20241113T200000
DTSTAMP:20260420T113834
CREATED:20240906T023134Z
LAST-MODIFIED:20240917T150143Z
UID:10000047-1731513600-1731528000@harlemmspto.ptoffice.co
SUMMARY:Urban Air - Family & Friends Fundraiser
DESCRIPTION:Parents\, students\, and family are invited to our Urban Air Family & Friends Night on Wednesday 11/13/24 from 4:00pm – 8:00pm.\nAll guests must mention Harlem Middle School when purchasing their passes. Pricing is below.\nUltimate $30.99Deluxe $23.99UA Socks $3.49\nEach participant will be required to fill out a waiver – parents must fill out for minor children.To optimize event experience\, please complete the waiver online prior to event start time. Attendees willnot be allowed to participate without a signed waiver – with no exceptions.\nWaiver: https://booking.urbanairparks.com/waiver…\nThe HMS PTO will receive 20% in tickets sales revenue from this event.\nALL STUDENTS MUST BE ACCOMPANIED BY A PARENT OR GUARDIAN. NO DROP OFFS.
URL:https://harlemmspto.ptoffice.co/event/urban-air-family-friends-fundraiser/
LOCATION:IL
CATEGORIES:Family and Friends Fundraiser
ATTACH;FMTTYPE=image/jpeg:https://harlemmspto.ptoffice.co/wp-content/uploads/sites/26/2024/09/453212304_338073096050668_7368842398212137232_n-e1725853963947.jpg
END:VEVENT
BEGIN:VEVENT
DTSTART;VALUE=DATE:20241120
DTEND;VALUE=DATE:20241123
DTSTAMP:20260420T113834
CREATED:20240901T012940Z
LAST-MODIFIED:20241018T220603Z
UID:10000026-1732060800-1732319999@harlemmspto.ptoffice.co
SUMMARY:Jersey Mike's Family & Friends Fundraiser
DESCRIPTION:Join us at Jersey Mikes Subs in Machesney Park from 11/20 – 11/22\, get discounts using the coupons here and the HMS PTO will receive a donation from Jersey Mikes Subs for each coupon used on these days. Share the coupons with family and friends to increase our donation amount. Save money while helping HMS!
URL:https://harlemmspto.ptoffice.co/event/jersey-mikes-family-friends-fundraiser/
LOCATION:IL
CATEGORIES:Family and Friends Fundraiser
END:VEVENT
END:VCALENDAR