BEGIN:VCALENDAR
VERSION:2.0
PRODID:-//HARLEM MIDDLE SCHOOL PTO - ECPv6.15.20//NONSGML v1.0//EN
CALSCALE:GREGORIAN
METHOD:PUBLISH
X-WR-CALNAME:HARLEM MIDDLE SCHOOL PTO
X-ORIGINAL-URL:https://harlemmspto.ptoffice.co
X-WR-CALDESC:Events for HARLEM MIDDLE SCHOOL PTO
REFRESH-INTERVAL;VALUE=DURATION:PT1H
X-Robots-Tag:noindex
X-PUBLISHED-TTL:PT1H
BEGIN:VTIMEZONE
TZID:America/Chicago
BEGIN:DAYLIGHT
TZOFFSETFROM:-0600
TZOFFSETTO:-0500
TZNAME:CDT
DTSTART:20230312T080000
END:DAYLIGHT
BEGIN:STANDARD
TZOFFSETFROM:-0500
TZOFFSETTO:-0600
TZNAME:CST
DTSTART:20231105T070000
END:STANDARD
BEGIN:DAYLIGHT
TZOFFSETFROM:-0600
TZOFFSETTO:-0500
TZNAME:CDT
DTSTART:20240310T080000
END:DAYLIGHT
BEGIN:STANDARD
TZOFFSETFROM:-0500
TZOFFSETTO:-0600
TZNAME:CST
DTSTART:20241103T070000
END:STANDARD
BEGIN:DAYLIGHT
TZOFFSETFROM:-0600
TZOFFSETTO:-0500
TZNAME:CDT
DTSTART:20250309T080000
END:DAYLIGHT
BEGIN:STANDARD
TZOFFSETFROM:-0500
TZOFFSETTO:-0600
TZNAME:CST
DTSTART:20251102T070000
END:STANDARD
END:VTIMEZONE
BEGIN:VEVENT
DTSTART;TZID=America/Chicago:20240918T170000
DTEND;TZID=America/Chicago:20240918T230000
DTSTAMP:20260420T164917
CREATED:20240822T001540Z
LAST-MODIFIED:20240917T150149Z
UID:10000017-1726678800-1726700400@harlemmspto.ptoffice.co
SUMMARY:Sam's Pizza 7th Grade Family & Friends Fundraiser
DESCRIPTION:Join the 7th grade class @ Sams on Harlem on Wednesday 9/18/24!\nSams on Harlem is a great supporter of our local Harlem Schools and PTO’s/PTA’s. Come enjoy one of their delicious pizzas\, a pasta\, or a steak in Sam’s newly remodeled dining room.\nMention HMS when dining in\, take-out\, or delivery and the PTO will receive 20% back from the evenings sales.\nCheck out Sams here: https://www.samsonharlem.com/The carry out and delivery menu: https://www.samsonharlem.com/…/fcb7b9…The dine-in menu: https://www.samsonharlem.com/…/fcb7b9…\nALL STUDENTS MUST BE ACCOMPANIED BY A PARENT/GUARDIAN
URL:https://harlemmspto.ptoffice.co/event/sams-pizza-7th-grade-family-friends-fundraiser/
LOCATION:IL
CATEGORIES:Family and Friends Fundraiser
ATTACH;FMTTYPE=image/jpeg:https://harlemmspto.ptoffice.co/wp-content/uploads/sites/26/2024/08/450997728_327787113745933_8909608944615444024_n-e1725853122183.jpg
END:VEVENT
END:VCALENDAR