BEGIN:VCALENDAR
VERSION:2.0
PRODID:-//HARLEM MIDDLE SCHOOL PTO - ECPv6.15.20//NONSGML v1.0//EN
CALSCALE:GREGORIAN
METHOD:PUBLISH
X-WR-CALNAME:HARLEM MIDDLE SCHOOL PTO
X-ORIGINAL-URL:https://harlemmspto.ptoffice.co
X-WR-CALDESC:Events for HARLEM MIDDLE SCHOOL PTO
REFRESH-INTERVAL;VALUE=DURATION:PT1H
X-Robots-Tag:noindex
X-PUBLISHED-TTL:PT1H
BEGIN:VTIMEZONE
TZID:America/Chicago
BEGIN:DAYLIGHT
TZOFFSETFROM:-0600
TZOFFSETTO:-0500
TZNAME:CDT
DTSTART:20240310T080000
END:DAYLIGHT
BEGIN:STANDARD
TZOFFSETFROM:-0500
TZOFFSETTO:-0600
TZNAME:CST
DTSTART:20241103T070000
END:STANDARD
BEGIN:DAYLIGHT
TZOFFSETFROM:-0600
TZOFFSETTO:-0500
TZNAME:CDT
DTSTART:20250309T080000
END:DAYLIGHT
BEGIN:STANDARD
TZOFFSETFROM:-0500
TZOFFSETTO:-0600
TZNAME:CST
DTSTART:20251102T070000
END:STANDARD
BEGIN:DAYLIGHT
TZOFFSETFROM:-0600
TZOFFSETTO:-0500
TZNAME:CDT
DTSTART:20260308T080000
END:DAYLIGHT
BEGIN:STANDARD
TZOFFSETFROM:-0500
TZOFFSETTO:-0600
TZNAME:CST
DTSTART:20261101T070000
END:STANDARD
END:VTIMEZONE
BEGIN:VEVENT
DTSTART;TZID=America/Chicago:20250219T173000
DTEND;TZID=America/Chicago:20250219T193000
DTSTAMP:20260420T083708
CREATED:20240914T233721Z
LAST-MODIFIED:20241014T180413Z
UID:10000056-1739986200-1739993400@harlemmspto.ptoffice.co
SUMMARY:SkateCo. Family & Friends Fundraiser for 7th Grade
DESCRIPTION:Join the 7th grade class @ Rockford SkateCo on Wednesday 2/19/25!\nAdmission – $8.00Skate Rentals – $3.00\nALL STUDENTS MUST BE ACCOMPANIED BY A PARENT/GUARDIAN
URL:https://harlemmspto.ptoffice.co/event/skateco-family-friends-fundraiser-for-7th-grade/
LOCATION:SkateCo. Rockford\, 3209 N. Main St.\, Rockford\, IL\, 61103\, United States
CATEGORIES:Family and Friends Fundraiser
ATTACH;FMTTYPE=image/jpeg:https://harlemmspto.ptoffice.co/wp-content/uploads/sites/26/2024/09/450808630_327383393786305_2256949946925031225_n-e1728929037448.jpg
END:VEVENT
END:VCALENDAR