BEGIN:VCALENDAR
VERSION:2.0
PRODID:-//HARLEM MIDDLE SCHOOL PTO - ECPv6.15.20//NONSGML v1.0//EN
CALSCALE:GREGORIAN
METHOD:PUBLISH
X-WR-CALNAME:HARLEM MIDDLE SCHOOL PTO
X-ORIGINAL-URL:https://harlemmspto.ptoffice.co
X-WR-CALDESC:Events for HARLEM MIDDLE SCHOOL PTO
REFRESH-INTERVAL;VALUE=DURATION:PT1H
X-Robots-Tag:noindex
X-PUBLISHED-TTL:PT1H
BEGIN:VTIMEZONE
TZID:America/Chicago
BEGIN:DAYLIGHT
TZOFFSETFROM:-0600
TZOFFSETTO:-0500
TZNAME:CDT
DTSTART:20230312T080000
END:DAYLIGHT
BEGIN:STANDARD
TZOFFSETFROM:-0500
TZOFFSETTO:-0600
TZNAME:CST
DTSTART:20231105T070000
END:STANDARD
BEGIN:DAYLIGHT
TZOFFSETFROM:-0600
TZOFFSETTO:-0500
TZNAME:CDT
DTSTART:20240310T080000
END:DAYLIGHT
BEGIN:STANDARD
TZOFFSETFROM:-0500
TZOFFSETTO:-0600
TZNAME:CST
DTSTART:20241103T070000
END:STANDARD
BEGIN:DAYLIGHT
TZOFFSETFROM:-0600
TZOFFSETTO:-0500
TZNAME:CDT
DTSTART:20250309T080000
END:DAYLIGHT
BEGIN:STANDARD
TZOFFSETFROM:-0500
TZOFFSETTO:-0600
TZNAME:CST
DTSTART:20251102T070000
END:STANDARD
END:VTIMEZONE
BEGIN:VEVENT
DTSTART;TZID=America/Chicago:20241227T190000
DTEND;TZID=America/Chicago:20241227T220000
DTSTAMP:20260420T050316
CREATED:20240914T233037Z
LAST-MODIFIED:20241014T180829Z
UID:10000054-1735326000-1735336800@harlemmspto.ptoffice.co
SUMMARY:Harlem Hogs Night
DESCRIPTION:The HARLEM HOGS NIGHT IS BACK!\nPlease join us for our 2nd Annual Harlem Hogs Night on Friday\, December 27th\, 2024 at 7:00PM at the BMO Center.\nWe invite the entire Harlem Community to attend this IceHogs game! This is a wonderful opportunity to join together as a community to show our support for the Harlem School District and the Rockford IceHogs! For this event\, our goal is to have our student sign the National Anthem before the game\, have Dr. Yarborough\, Superintendent of the Harlem School District drop the first puck again\, and offer various other game experiences for students and families.
URL:https://harlemmspto.ptoffice.co/event/harlem-hogs-night/
CATEGORIES:PTO Events
ATTACH;FMTTYPE=image/jpeg:https://harlemmspto.ptoffice.co/wp-content/uploads/sites/26/2024/09/452133913_333889456469032_2674353902308191333_n-e1728929296290.jpg
END:VEVENT
END:VCALENDAR