BEGIN:VCALENDAR
VERSION:2.0
PRODID:-//HARLEM MIDDLE SCHOOL PTO - ECPv6.15.20//NONSGML v1.0//EN
CALSCALE:GREGORIAN
METHOD:PUBLISH
X-ORIGINAL-URL:https://harlemmspto.ptoffice.co
X-WR-CALDESC:Events for HARLEM MIDDLE SCHOOL PTO
REFRESH-INTERVAL;VALUE=DURATION:PT1H
X-Robots-Tag:noindex
X-PUBLISHED-TTL:PT1H
BEGIN:VTIMEZONE
TZID:America/Chicago
BEGIN:DAYLIGHT
TZOFFSETFROM:-0600
TZOFFSETTO:-0500
TZNAME:CDT
DTSTART:20230312T080000
END:DAYLIGHT
BEGIN:STANDARD
TZOFFSETFROM:-0500
TZOFFSETTO:-0600
TZNAME:CST
DTSTART:20231105T070000
END:STANDARD
BEGIN:DAYLIGHT
TZOFFSETFROM:-0600
TZOFFSETTO:-0500
TZNAME:CDT
DTSTART:20240310T080000
END:DAYLIGHT
BEGIN:STANDARD
TZOFFSETFROM:-0500
TZOFFSETTO:-0600
TZNAME:CST
DTSTART:20241103T070000
END:STANDARD
BEGIN:DAYLIGHT
TZOFFSETFROM:-0600
TZOFFSETTO:-0500
TZNAME:CDT
DTSTART:20250309T080000
END:DAYLIGHT
BEGIN:STANDARD
TZOFFSETFROM:-0500
TZOFFSETTO:-0600
TZNAME:CST
DTSTART:20251102T070000
END:STANDARD
END:VTIMEZONE
BEGIN:VEVENT
DTSTART;TZID=America/Chicago:20241107T174500
DTEND;TZID=America/Chicago:20241107T191500
DTSTAMP:20260420T062507
CREATED:20240915T185648Z
LAST-MODIFIED:20240917T150144Z
UID:10000074-1731001500-1731006900@harlemmspto.ptoffice.co
SUMMARY:Student Council Fall Dance
DESCRIPTION:
URL:https://harlemmspto.ptoffice.co/event/student-council-fall-dance/
CATEGORIES:Student Council
END:VEVENT
END:VCALENDAR